BEGIN:VCALENDAR
VERSION:2.0
PRODID:-//Segelvereinigung Nordschwarzwald e.V. - ECPv6.15.20//NONSGML v1.0//EN
CALSCALE:GREGORIAN
METHOD:PUBLISH
X-ORIGINAL-URL:https://www.svnnagold.de
X-WR-CALDESC:Veranstaltungen für Segelvereinigung Nordschwarzwald e.V.
REFRESH-INTERVAL;VALUE=DURATION:PT1H
X-Robots-Tag:noindex
X-PUBLISHED-TTL:PT1H
BEGIN:VTIMEZONE
TZID:Europe/Berlin
BEGIN:DAYLIGHT
TZOFFSETFROM:+0100
TZOFFSETTO:+0200
TZNAME:CEST
DTSTART:20240331T010000
END:DAYLIGHT
BEGIN:STANDARD
TZOFFSETFROM:+0200
TZOFFSETTO:+0100
TZNAME:CET
DTSTART:20241027T010000
END:STANDARD
BEGIN:DAYLIGHT
TZOFFSETFROM:+0100
TZOFFSETTO:+0200
TZNAME:CEST
DTSTART:20250330T010000
END:DAYLIGHT
BEGIN:STANDARD
TZOFFSETFROM:+0200
TZOFFSETTO:+0100
TZNAME:CET
DTSTART:20251026T010000
END:STANDARD
BEGIN:DAYLIGHT
TZOFFSETFROM:+0100
TZOFFSETTO:+0200
TZNAME:CEST
DTSTART:20260329T010000
END:DAYLIGHT
BEGIN:STANDARD
TZOFFSETFROM:+0200
TZOFFSETTO:+0100
TZNAME:CET
DTSTART:20261025T010000
END:STANDARD
BEGIN:DAYLIGHT
TZOFFSETFROM:+0100
TZOFFSETTO:+0200
TZNAME:CEST
DTSTART:20270328T010000
END:DAYLIGHT
BEGIN:STANDARD
TZOFFSETFROM:+0200
TZOFFSETTO:+0100
TZNAME:CET
DTSTART:20271031T010000
END:STANDARD
END:VTIMEZONE
BEGIN:VEVENT
DTSTART;TZID=Europe/Berlin:20260422T140000
DTEND;TZID=Europe/Berlin:20260422T190000
DTSTAMP:20260424T164128
CREATED:20251221T122632Z
LAST-MODIFIED:20251221T122633Z
UID:1785-1776866400-1776884400@www.svnnagold.de
SUMMARY:Mittwoch Segeln
DESCRIPTION:
URL:https://www.svnnagold.de/termine/mittwoch-segeln-9/
END:VEVENT
BEGIN:VEVENT
DTSTART;TZID=Europe/Berlin:20260419T000000
DTEND;TZID=Europe/Berlin:20260419T000000
DTSTAMP:20260424T164128
CREATED:20260204T070309Z
LAST-MODIFIED:20260322T102606Z
UID:1836-1776556800-1776556800@www.svnnagold.de
SUMMARY:Ansegeln in Kirchentellinsfurt
DESCRIPTION:
URL:https://www.svnnagold.de/termine/ansegeln-in-kirchentellinsfurt/
END:VEVENT
BEGIN:VEVENT
DTSTART;TZID=Europe/Berlin:20260418T140000
DTEND;TZID=Europe/Berlin:20260418T170000
DTSTAMP:20260424T164128
CREATED:20251221T121503Z
LAST-MODIFIED:20260318T160916Z
UID:1783-1776520800-1776531600@www.svnnagold.de
SUMMARY:Mitgliederversammlung
DESCRIPTION:Nähere Informationen gibt es im Mitgliederbereich (unter Mitgliederversammlungen)
URL:https://www.svnnagold.de/termine/mitgliederversammlung/
END:VEVENT
BEGIN:VEVENT
DTSTART;TZID=Europe/Berlin:20260328T093000
DTEND;TZID=Europe/Berlin:20260328T093000
DTSTAMP:20260424T164128
CREATED:20251221T120914Z
LAST-MODIFIED:20260322T102925Z
UID:1781-1774690200-1774690200@www.svnnagold.de
SUMMARY:Auslagern
DESCRIPTION:
URL:https://www.svnnagold.de/termine/auslagern/
END:VEVENT
BEGIN:VEVENT
DTSTART;TZID=Europe/Berlin:20260321T100000
DTEND;TZID=Europe/Berlin:20260321T170000
DTSTAMP:20260424T164128
CREATED:20260204T070522Z
LAST-MODIFIED:20260204T070523Z
UID:1838-1774087200-1774112400@www.svnnagold.de
SUMMARY:Arbeitseinsatz Segelhaus und Vorbereitung des Bootsgeländes
DESCRIPTION:
URL:https://www.svnnagold.de/termine/arbeitseinsatz-segelhaus-und-vorbereitung-des-bootsgelaendes/
END:VEVENT
BEGIN:VEVENT
DTSTART;TZID=Europe/Berlin:20260315T134500
DTEND;TZID=Europe/Berlin:20260315T170000
DTSTAMP:20260424T164128
CREATED:20251221T120827Z
LAST-MODIFIED:20260226T111126Z
UID:1779-1773582300-1773594000@www.svnnagold.de
SUMMARY:3. Wintertreffen 2026
DESCRIPTION:Details finden sich auf https://www.svnnagold.de/3-wintertreff-2026/
URL:https://www.svnnagold.de/termine/3-wintertreffen-2026/
END:VEVENT
BEGIN:VEVENT
DTSTART;TZID=Europe/Berlin:20260214T140000
DTEND;TZID=Europe/Berlin:20260214T170000
DTSTAMP:20260424T164128
CREATED:20251221T120542Z
LAST-MODIFIED:20260212T132551Z
UID:1777-1771077600-1771088400@www.svnnagold.de
SUMMARY:2. Wintertreffen 2026 - abgesagt
DESCRIPTION:Leider ist das 2. Wintertreffen abgesagt. \n\n\n\nWeiter Informationen finden sich unter https://www.svnnagold.de/2-wintertreff-2026/
URL:https://www.svnnagold.de/termine/2-wintertreffen-2026/
END:VEVENT
BEGIN:VEVENT
DTSTART;TZID=Europe/Berlin:20260117T133000
DTEND;TZID=Europe/Berlin:20260117T170000
DTSTAMP:20260424T164128
CREATED:20251221T115533Z
LAST-MODIFIED:20251221T115758Z
UID:1774-1768656600-1768669200@www.svnnagold.de
SUMMARY:1. Wintertreffen 2026
DESCRIPTION:Details finden sich auf https://www.svnnagold.de/1-wintertreffen-2026/
URL:https://www.svnnagold.de/termine/1-wintertreffen-2026/
END:VEVENT
BEGIN:VEVENT
DTSTART;TZID=Europe/Berlin:20251213T140000
DTEND;TZID=Europe/Berlin:20251213T170000
DTSTAMP:20260424T164128
CREATED:20250202T081528Z
LAST-MODIFIED:20250216T092841Z
UID:1561-1765634400-1765645200@www.svnnagold.de
SUMMARY:SvN Wintertreffen
DESCRIPTION:
URL:https://www.svnnagold.de/termine/svn-wintertreffen-3/
END:VEVENT
BEGIN:VEVENT
DTSTART;TZID=Europe/Berlin:20251108T140000
DTEND;TZID=Europe/Berlin:20251108T170000
DTSTAMP:20260424T164128
CREATED:20250202T081511Z
LAST-MODIFIED:20251103T080646Z
UID:1559-1762610400-1762621200@www.svnnagold.de
SUMMARY:SvN Wintertreffen
DESCRIPTION:Details finden sich auf https://www.svnnagold.de/2-wintertreffen-2025/
URL:https://www.svnnagold.de/termine/svn-wintertreffen-2/
END:VEVENT
BEGIN:VEVENT
DTSTART;TZID=Europe/Berlin:20251011T140000
DTEND;TZID=Europe/Berlin:20251011T170000
DTSTAMP:20260424T164128
CREATED:20250202T081446Z
LAST-MODIFIED:20251007T181039Z
UID:1557-1760191200-1760202000@www.svnnagold.de
SUMMARY:Arbeitseinsatz
DESCRIPTION:
URL:https://www.svnnagold.de/termine/svn-wintertreffen/
END:VEVENT
BEGIN:VEVENT
DTSTART;TZID=Europe/Berlin:20250928T103000
DTEND;TZID=Europe/Berlin:20250928T170000
DTSTAMP:20260424T164128
CREATED:20250202T081413Z
LAST-MODIFIED:20250216T093028Z
UID:1555-1759055400-1759078800@www.svnnagold.de
SUMMARY:SvN im Tal X
DESCRIPTION:
URL:https://www.svnnagold.de/termine/svn-im-tal-x-2/
END:VEVENT
BEGIN:VEVENT
DTSTART;TZID=Europe/Berlin:20250927T093000
DTEND;TZID=Europe/Berlin:20250927T170000
DTSTAMP:20260424T164128
CREATED:20250202T081348Z
LAST-MODIFIED:20250216T093738Z
UID:1553-1758965400-1758992400@www.svnnagold.de
SUMMARY:Einlagern
DESCRIPTION:
URL:https://www.svnnagold.de/termine/einlagern/
END:VEVENT
BEGIN:VEVENT
DTSTART;TZID=Europe/Berlin:20250813T140000
DTEND;TZID=Europe/Berlin:20250813T170000
DTSTAMP:20260424T164128
CREATED:20250202T081127Z
LAST-MODIFIED:20250216T094029Z
UID:1541-1755093600-1755104400@www.svnnagold.de
SUMMARY:Mittwoch Segeln
DESCRIPTION:
URL:https://www.svnnagold.de/termine/mittwoch-segeln-8/
END:VEVENT
BEGIN:VEVENT
DTSTART;TZID=Europe/Berlin:20250802T103000
DTEND;TZID=Europe/Berlin:20250802T170000
DTSTAMP:20260424T164128
CREATED:20250202T081107Z
LAST-MODIFIED:20250216T094534Z
UID:1539-1754130600-1754154000@www.svnnagold.de
SUMMARY:SvN im Tal X * WW
DESCRIPTION:Besuch der Gartenschau im Tal X\n\n\n\nDie Segelvereinigung Nordschwarzwald ist zu 3 Terminen auf der Gartenschau vertreten. An diesem Termin „zeigen wir Segel“ und laden unsere Mitglieder zu einer Führung durch das Tal X ein. Mit den ferngesteuerten Modellseglern machen wir auf die SvN und den Segelsport aufmerksam. Nach einer Einweisung haben Besucher*innen die Möglichkeit die RC Laser eigenständig über den See zu segeln.
URL:https://www.svnnagold.de/termine/svn-im-tal-x-ww/
END:VEVENT
BEGIN:VEVENT
DTSTART;TZID=Europe/Berlin:20250723T140000
DTEND;TZID=Europe/Berlin:20250723T170000
DTSTAMP:20260424T164128
CREATED:20250202T081039Z
LAST-MODIFIED:20250216T094051Z
UID:1537-1753279200-1753290000@www.svnnagold.de
SUMMARY:Mittwoch Segeln
DESCRIPTION:
URL:https://www.svnnagold.de/termine/mittwoch-segeln-7/
END:VEVENT
BEGIN:VEVENT
DTSTART;TZID=Europe/Berlin:20250720T120000
DTEND;TZID=Europe/Berlin:20250720T173000
DTSTAMP:20260424T164128
CREATED:20250202T081014Z
LAST-MODIFIED:20250709T164301Z
UID:1535-1753012800-1753032600@www.svnnagold.de
SUMMARY:Sommerausflug
DESCRIPTION:Besuch des Kulturparks Glashütte Buhlbach\n\n\n\nEinladung mit genauen Daten finden sich im Beitrag https://www.svnnagold.de/einladung-zum-sommer-ausflug-am-20-7-2025/
URL:https://www.svnnagold.de/termine/sommerausflug/
END:VEVENT
BEGIN:VEVENT
DTSTART;TZID=Europe/Berlin:20250709T140000
DTEND;TZID=Europe/Berlin:20250709T170000
DTSTAMP:20260424T164128
CREATED:20250202T080943Z
LAST-MODIFIED:20250216T094317Z
UID:1533-1752069600-1752080400@www.svnnagold.de
SUMMARY:Mittwoch Segeln
DESCRIPTION:
URL:https://www.svnnagold.de/termine/mittwoch-segeln-6/
END:VEVENT
BEGIN:VEVENT
DTSTART;TZID=Europe/Berlin:20250627T090000
DTEND;TZID=Europe/Berlin:20250627T170000
DTSTAMP:20260424T164128
CREATED:20250202T080919Z
LAST-MODIFIED:20250216T094448Z
UID:1531-1751014800-1751043600@www.svnnagold.de
SUMMARY:SvN im Tal X
DESCRIPTION:
URL:https://www.svnnagold.de/termine/svn-im-tal-x/
END:VEVENT
BEGIN:VEVENT
DTSTART;TZID=Europe/Berlin:20250625T080000
DTEND;TZID=Europe/Berlin:20250625T170000
DTSTAMP:20260424T164128
CREATED:20250202T080852Z
LAST-MODIFIED:20250202T080852Z
UID:1529-1750838400-1750870800@www.svnnagold.de
SUMMARY:Mittwoch Segeln
DESCRIPTION:
URL:https://www.svnnagold.de/termine/mittwoch-segeln-5/
END:VEVENT
BEGIN:VEVENT
DTSTART;TZID=Europe/Berlin:20250611T140000
DTEND;TZID=Europe/Berlin:20250611T170000
DTSTAMP:20260424T164128
CREATED:20250202T080831Z
LAST-MODIFIED:20250216T094353Z
UID:1527-1749650400-1749661200@www.svnnagold.de
SUMMARY:Mittwoch Segeln
DESCRIPTION:
URL:https://www.svnnagold.de/termine/mittwoch-segeln-4/
END:VEVENT
BEGIN:VEVENT
DTSTART;TZID=Europe/Berlin:20250528T140000
DTEND;TZID=Europe/Berlin:20250528T170000
DTSTAMP:20260424T164128
CREATED:20250202T080739Z
LAST-MODIFIED:20250216T094415Z
UID:1525-1748440800-1748451600@www.svnnagold.de
SUMMARY:Mittwoch Segeln
DESCRIPTION:
URL:https://www.svnnagold.de/termine/mittwoch-segeln-3/
END:VEVENT
BEGIN:VEVENT
DTSTART;TZID=Europe/Berlin:20250518T100000
DTEND;TZID=Europe/Berlin:20250518T170000
DTSTAMP:20260424T164128
CREATED:20250202T080716Z
LAST-MODIFIED:20250516T161619Z
UID:1523-1747562400-1747587600@www.svnnagold.de
SUMMARY:1. Match Race
DESCRIPTION:
URL:https://www.svnnagold.de/termine/1-match-race-2/
END:VEVENT
BEGIN:VEVENT
DTSTART;TZID=Europe/Berlin:20250514T140000
DTEND;TZID=Europe/Berlin:20250514T170000
DTSTAMP:20260424T164128
CREATED:20250202T080647Z
LAST-MODIFIED:20250216T094605Z
UID:1521-1747231200-1747242000@www.svnnagold.de
SUMMARY:Mittwoch Segeln
DESCRIPTION:
URL:https://www.svnnagold.de/termine/mittwoch-segeln-2/
END:VEVENT
BEGIN:VEVENT
DTSTART;TZID=Europe/Berlin:20250510T110000
DTEND;TZID=Europe/Berlin:20250510T170000
DTSTAMP:20260424T164128
CREATED:20250202T080621Z
LAST-MODIFIED:20250216T094649Z
UID:1519-1746874800-1746896400@www.svnnagold.de
SUMMARY:Ansegeln & Mitgliederversammlung
DESCRIPTION:
URL:https://www.svnnagold.de/termine/ansegeln-mitgliederversammlung/
END:VEVENT
END:VCALENDAR